BEGIN:VCALENDAR
VERSION:2.0
PRODID:-//PDKNINE - ECPv6.15.17.1//NONSGML v1.0//EN
CALSCALE:GREGORIAN
METHOD:PUBLISH
X-WR-CALNAME:PDKNINE
X-ORIGINAL-URL:https://pdknine.com
X-WR-CALDESC:Events for PDKNINE
REFRESH-INTERVAL;VALUE=DURATION:PT1H
X-Robots-Tag:noindex
X-PUBLISHED-TTL:PT1H
BEGIN:VTIMEZONE
TZID:America/New_York
BEGIN:DAYLIGHT
TZOFFSETFROM:-0500
TZOFFSETTO:-0400
TZNAME:EDT
DTSTART:20250309T070000
END:DAYLIGHT
BEGIN:STANDARD
TZOFFSETFROM:-0400
TZOFFSETTO:-0500
TZNAME:EST
DTSTART:20251102T060000
END:STANDARD
BEGIN:DAYLIGHT
TZOFFSETFROM:-0500
TZOFFSETTO:-0400
TZNAME:EDT
DTSTART:20260308T070000
END:DAYLIGHT
BEGIN:STANDARD
TZOFFSETFROM:-0400
TZOFFSETTO:-0500
TZNAME:EST
DTSTART:20261101T060000
END:STANDARD
BEGIN:DAYLIGHT
TZOFFSETFROM:-0500
TZOFFSETTO:-0400
TZNAME:EDT
DTSTART:20270314T070000
END:DAYLIGHT
BEGIN:STANDARD
TZOFFSETFROM:-0400
TZOFFSETTO:-0500
TZNAME:EST
DTSTART:20271107T060000
END:STANDARD
END:VTIMEZONE
BEGIN:VEVENT
DTSTART;TZID=America/New_York:20260421T170000
DTEND;TZID=America/New_York:20260421T200000
DTSTAMP:20260421T055716
CREATED:20260323T202826Z
LAST-MODIFIED:20260323T202826Z
UID:9496-1776790800-1776801600@pdknine.com
SUMMARY:Looking for Group: LGBTQ+
DESCRIPTION:Looking for Group: LGBTQ+ is a welcoming night to meet fellow queer gamers and allies\, make new connections\, and settle in for some fun over board games\, conversation\, and your favorite café drink. Whether you’re hoping to find a new game group\, make a few local friends\, or just enjoy a space where you can relax and be yourself\, this night is for you. \nWe’ll have tables set aside with games that are easy to jump into\, social\, and fun to play with new people. Come solo\, bring a friend\, or rotate through a few tables and see who you click with. Whether you stay for one round or hang all night\, it’s all about good games\, good vibes\, and building community.
URL:https://pdknine.com/event/looking-for-group-lgbtq/
END:VEVENT
END:VCALENDAR