BEGIN:VCALENDAR
VERSION:2.0
PRODID:-//PDKNINE - ECPv6.15.17.1//NONSGML v1.0//EN
CALSCALE:GREGORIAN
METHOD:PUBLISH
X-WR-CALNAME:PDKNINE
X-ORIGINAL-URL:https://pdknine.com
X-WR-CALDESC:Events for PDKNINE
REFRESH-INTERVAL;VALUE=DURATION:PT1H
X-Robots-Tag:noindex
X-PUBLISHED-TTL:PT1H
BEGIN:VTIMEZONE
TZID:America/New_York
BEGIN:DAYLIGHT
TZOFFSETFROM:-0500
TZOFFSETTO:-0400
TZNAME:EDT
DTSTART:20250309T070000
END:DAYLIGHT
BEGIN:STANDARD
TZOFFSETFROM:-0400
TZOFFSETTO:-0500
TZNAME:EST
DTSTART:20251102T060000
END:STANDARD
BEGIN:DAYLIGHT
TZOFFSETFROM:-0500
TZOFFSETTO:-0400
TZNAME:EDT
DTSTART:20260308T070000
END:DAYLIGHT
BEGIN:STANDARD
TZOFFSETFROM:-0400
TZOFFSETTO:-0500
TZNAME:EST
DTSTART:20261101T060000
END:STANDARD
BEGIN:DAYLIGHT
TZOFFSETFROM:-0500
TZOFFSETTO:-0400
TZNAME:EDT
DTSTART:20270314T070000
END:DAYLIGHT
BEGIN:STANDARD
TZOFFSETFROM:-0400
TZOFFSETTO:-0500
TZNAME:EST
DTSTART:20271107T060000
END:STANDARD
END:VTIMEZONE
BEGIN:VEVENT
DTSTART;TZID=America/New_York:20260423T190000
DTEND;TZID=America/New_York:20260423T210000
DTSTAMP:20260423T054621
CREATED:20251231T204143Z
LAST-MODIFIED:20260323T184534Z
UID:9144-1776970800-1776978000@pdknine.com
SUMMARY:D&D One Shot!
DESCRIPTION:Come pick up an adventure with our House Dungeon Masters from 7 – 9:00 PM tonight! Bring your own character or have one provided for you! Huzzah! \n*Space is limited; please call ahead to reserve your spot in the adventure! $15 to join the adventure!
URL:https://pdknine.com/event/dd-one-shot-100/
END:VEVENT
BEGIN:VEVENT
DTSTART;TZID=America/New_York:20260423T213000
DTEND;TZID=America/New_York:20260423T233000
DTSTAMP:20260423T054621
CREATED:20260323T185551Z
LAST-MODIFIED:20260323T185551Z
UID:9449-1776979800-1776987000@pdknine.com
SUMMARY:D&D After Dark
DESCRIPTION:Join an Adventure with Our House Dungeon Masters!\n🕖 9:30 pm – 11:30 pm | $15 per player | Adults only \nReady to embark on a thrilling one-shot adventure? Whether you’re a seasoned adventurer or completely new to the game\, our House Dungeon Masters are here to guide you on an unforgettable quest. Space is limited\, so call ahead to reserve your spot! \nWhat to Expect: \n\nNo prior experience needed! Our one-shot adventures are perfect for newcomers and experienced players alike.\nStandalone adventures: Each session is self-contained\, with no ongoing storylines—unless otherwise discussed with the DM.\nAdults only: We ask that you be 18+ to play this late night session.\nPre-generated characters available: New to the game? No problem! We provide pre-generated characters to help you dive right in. Regular players can coordinate with the DM for more advanced character options.\nNew D&D 5e rules: With the release of the updated core rulebooks\, we’re excited to introduce you to the new format while incorporating character build options from the past 10 years.\nCharacter progression: While characters won’t level up during the session\, you’ll earn experience points to track your progress. DMs will be available outside of the session to assist with leveling up when you’ve earned enough XP.
URL:https://pdknine.com/event/dd-after-dark-45/
ATTACH;FMTTYPE=image/jpeg:https://pdknine.com/wp-content/uploads/2024/02/dragon-rockandroll.jpeg
END:VEVENT
END:VCALENDAR