BEGIN:VCALENDAR
VERSION:2.0
PRODID:-//PDKNINE - ECPv6.15.17.1//NONSGML v1.0//EN
CALSCALE:GREGORIAN
METHOD:PUBLISH
X-ORIGINAL-URL:https://pdknine.com
X-WR-CALDESC:Events for PDKNINE
REFRESH-INTERVAL;VALUE=DURATION:PT1H
X-Robots-Tag:noindex
X-PUBLISHED-TTL:PT1H
BEGIN:VTIMEZONE
TZID:UTC
BEGIN:STANDARD
TZOFFSETFROM:+0000
TZOFFSETTO:+0000
TZNAME:UTC
DTSTART:20220101T000000
END:STANDARD
END:VTIMEZONE
BEGIN:VEVENT
DTSTART;TZID=UTC:20231202T180000
DTEND;TZID=UTC:20231202T210000
DTSTAMP:20260423T093022
CREATED:20231202T005414Z
LAST-MODIFIED:20231202T005414Z
UID:6884-1701540000-1701550800@pdknine.com
SUMMARY:Apples to Apples
DESCRIPTION:Come play the fun family game Apples to Apples for $5! \n 
URL:https://pdknine.com/event/apples-to-apples/
ATTACH;FMTTYPE=image/jpeg:https://pdknine.com/wp-content/uploads/2023/12/apples.jpeg
END:VEVENT
BEGIN:VEVENT
DTSTART;VALUE=DATE:20231204
DTEND;VALUE=DATE:20231205
DTSTAMP:20260423T093022
CREATED:20231202T005844Z
LAST-MODIFIED:20231202T005844Z
UID:6888-1701648000-1701734399@pdknine.com
SUMMARY:BOGO Game Block Day!
DESCRIPTION:Buy one\, get one game block for free–$10 buys you up to 3 hours of gameplay per person!
URL:https://pdknine.com/event/bogo-game-block-day/
ATTACH;FMTTYPE=image/webp:https://pdknine.com/wp-content/uploads/2023/12/bogo.webp
END:VEVENT
BEGIN:VEVENT
DTSTART;TZID=UTC:20231208T180000
DTEND;TZID=UTC:20231208T200000
DTSTAMP:20260423T093022
CREATED:20231202T010403Z
LAST-MODIFIED:20231202T010403Z
UID:6895-1702058400-1702065600@pdknine.com
SUMMARY:Jump In: Cards Against Humanity
DESCRIPTION:Don’t have plans this Friday night? Come join a group or bring your own to play the ever-irreverent Cards Against Humanity at PDK Nine for just $5 per person!
URL:https://pdknine.com/event/jump-in-cards-against-humanity/
ATTACH;FMTTYPE=image/jpeg:https://pdknine.com/wp-content/uploads/2023/12/cards.jpeg
END:VEVENT
BEGIN:VEVENT
DTSTART;TZID=UTC:20231209T170000
DTEND;TZID=UTC:20231209T200000
DTSTAMP:20260423T093022
CREATED:20231202T011029Z
LAST-MODIFIED:20231202T011029Z
UID:6899-1702141200-1702152000@pdknine.com
SUMMARY:KRAMPUSNACHT
DESCRIPTION:
URL:https://pdknine.com/event/krampusnacht/
ATTACH;FMTTYPE=image/png:https://pdknine.com/wp-content/uploads/2023/12/krampus.png
END:VEVENT
BEGIN:VEVENT
DTSTART;TZID=UTC:20231210T120000
DTEND;TZID=UTC:20231210T140000
DTSTAMP:20260423T093022
CREATED:20231202T011758Z
LAST-MODIFIED:20231202T011834Z
UID:6909-1702209600-1702216800@pdknine.com
SUMMARY:Milk & Cookies with John McLane
DESCRIPTION:Photos with Santa is old hat…come get your picture taken with Roy Rogers…Yippee-kay-ay!
URL:https://pdknine.com/event/milk-cookies-with-john-mclane/
ATTACH;FMTTYPE=image/jpeg:https://pdknine.com/wp-content/uploads/2023/12/bruce-scaled.jpeg
END:VEVENT
BEGIN:VEVENT
DTSTART;TZID=UTC:20231214T190000
DTEND;TZID=UTC:20231214T210000
DTSTAMP:20260423T093022
CREATED:20230903T222034Z
LAST-MODIFIED:20231202T011205Z
UID:6685-1702580400-1702587600@pdknine.com
SUMMARY:TYRO D&D One-Shot
DESCRIPTION:New to D&D? Try out Tyro\, our new beginner’s approach to adventuring! This is mostly geared toward our younger D&D players\, but anyone is able to play! \n**Space is limited\, please call ahead to reserve your spot in the adventure!
URL:https://pdknine.com/event/tyro-dd-one-shot-4/
ATTACH;FMTTYPE=image/png:https://pdknine.com/wp-content/uploads/2023/04/IMG_0873.png
END:VEVENT
BEGIN:VEVENT
DTSTART;TZID=UTC:20231215T180000
DTEND;TZID=UTC:20231215T200000
DTSTAMP:20260423T093022
CREATED:20231202T011501Z
LAST-MODIFIED:20231202T011501Z
UID:6906-1702663200-1702670400@pdknine.com
SUMMARY:Ugly Sweater Singles Mixer!
DESCRIPTION:Hey\, if they don’t like you in your ugliest sweater\, they don’t deserve you in your Sunday Best!
URL:https://pdknine.com/event/ugly-sweater-singles-mixer/
ATTACH;FMTTYPE=image/jpeg:https://pdknine.com/wp-content/uploads/2023/12/cow.jpeg
END:VEVENT
BEGIN:VEVENT
DTSTART;TZID=UTC:20231217T120000
DTEND;TZID=UTC:20231217T180000
DTSTAMP:20260423T093022
CREATED:20231202T012803Z
LAST-MODIFIED:20231202T012803Z
UID:6924-1702814400-1702836000@pdknine.com
SUMMARY:Melty Cup Ornament Making!
DESCRIPTION:A craft and a gift in one! \nStop on by!
URL:https://pdknine.com/event/melty-cup-ornament-making/
ATTACH;FMTTYPE=image/jpeg:https://pdknine.com/wp-content/uploads/2023/12/cups.jpeg
END:VEVENT
BEGIN:VEVENT
DTSTART;VALUE=DATE:20231220
DTEND;VALUE=DATE:20231221
DTSTAMP:20260423T093022
CREATED:20231202T012538Z
LAST-MODIFIED:20231202T012538Z
UID:6922-1703030400-1703116799@pdknine.com
SUMMARY:National Play Games Day
DESCRIPTION:…I mean\, say no more\, right? COME PLAY!
URL:https://pdknine.com/event/national-play-games-day/
ATTACH;FMTTYPE=image/png:https://pdknine.com/wp-content/uploads/2023/05/IMG_7224.png
END:VEVENT
BEGIN:VEVENT
DTSTART;TZID=UTC:20231221T190000
DTEND;TZID=UTC:20231221T220000
DTSTAMP:20260423T093022
CREATED:20231202T011310Z
LAST-MODIFIED:20231202T011310Z
UID:6904-1703185200-1703196000@pdknine.com
SUMMARY:D&D One Shot!
DESCRIPTION:Come pick up an adventure with our House Dungeon Master from 7 – 10PM tonight! Bring your own character or have one provided for you! Huzzah! \n  \n*Space is limited; please call ahead to reserve your spot in the adventure!
URL:https://pdknine.com/event/dd-one-shot-13/
ATTACH;FMTTYPE=image/jpeg:https://pdknine.com/wp-content/uploads/2023/04/IMG_7353.jpeg
END:VEVENT
BEGIN:VEVENT
DTSTART;TZID=UTC:20231223T170000
DTEND;TZID=UTC:20231223T210000
DTSTAMP:20260423T093022
CREATED:20231202T012954Z
LAST-MODIFIED:20231202T012954Z
UID:6927-1703350800-1703365200@pdknine.com
SUMMARY:Cozy Games and EggNog
DESCRIPTION:Get cozy–the holidays are here!
URL:https://pdknine.com/event/cozy-games-and-eggnog/
ATTACH;FMTTYPE=image/jpeg:https://pdknine.com/wp-content/uploads/2023/12/nog.jpeg
END:VEVENT
BEGIN:VEVENT
DTSTART;VALUE=DATE:20231224
DTEND;VALUE=DATE:20231225
DTSTAMP:20260423T093023
CREATED:20231202T012434Z
LAST-MODIFIED:20231202T012434Z
UID:6919-1703376000-1703462399@pdknine.com
SUMMARY:Last Minute Shopping Day!
DESCRIPTION:Ran out of time? We got ya covered. Come check out our gift card specials and great deals!
URL:https://pdknine.com/event/last-minute-shopping-day/
ATTACH;FMTTYPE=image/jpeg:https://pdknine.com/wp-content/uploads/2023/12/bot.jpeg
END:VEVENT
BEGIN:VEVENT
DTSTART;TZID=UTC:20231228T190000
DTEND;TZID=UTC:20231228T210000
DTSTAMP:20260423T093023
CREATED:20231202T012009Z
LAST-MODIFIED:20231202T012009Z
UID:6912-1703790000-1703797200@pdknine.com
SUMMARY:Tyro D&D One Shot!
DESCRIPTION:New to D&D? Try out Tyro\, our new beginner’s approach to adventuring! This is mostly geared toward our younger D&D players\, but anyone is able to play! \n**Space is limited\, please call ahead to reserve your spot in the adventure!
URL:https://pdknine.com/event/tyro-dd-one-shot-5/
ATTACH;FMTTYPE=image/png:https://pdknine.com/wp-content/uploads/2023/04/IMG_0873.png
END:VEVENT
END:VCALENDAR