BEGIN:VCALENDAR
VERSION:2.0
PRODID:-//PDKNINE - ECPv6.15.17.1//NONSGML v1.0//EN
CALSCALE:GREGORIAN
METHOD:PUBLISH
X-WR-CALNAME:PDKNINE
X-ORIGINAL-URL:https://pdknine.com
X-WR-CALDESC:Events for PDKNINE
REFRESH-INTERVAL;VALUE=DURATION:PT1H
X-Robots-Tag:noindex
X-PUBLISHED-TTL:PT1H
BEGIN:VTIMEZONE
TZID:UTC
BEGIN:STANDARD
TZOFFSETFROM:+0000
TZOFFSETTO:+0000
TZNAME:UTC
DTSTART:20230101T000000
END:STANDARD
END:VTIMEZONE
BEGIN:VEVENT
DTSTART;VALUE=DATE:20240304
DTEND;VALUE=DATE:20240305
DTSTAMP:20260423T043644
CREATED:20240301T204833Z
LAST-MODIFIED:20240301T204833Z
UID:7016-1709510400-1709596799@pdknine.com
SUMMARY:We close at 5PM!
DESCRIPTION:
URL:https://pdknine.com/event/we-close-at-5pm/
END:VEVENT
BEGIN:VEVENT
DTSTART;TZID=UTC:20240304T120000
DTEND;TZID=UTC:20240304T170000
DTSTAMP:20260423T043644
CREATED:20240301T204814Z
LAST-MODIFIED:20240301T204814Z
UID:7014-1709553600-1709571600@pdknine.com
SUMMARY:Free Snacks til 5pm!
DESCRIPTION:We close early today so enjoy snacks on us til then!
URL:https://pdknine.com/event/free-snacks-til-5pm/
ATTACH;FMTTYPE=image/jpeg:https://pdknine.com/wp-content/uploads/2021/10/daiva-9.jpg
END:VEVENT
BEGIN:VEVENT
DTSTART;VALUE=DATE:20240306
DTEND;VALUE=DATE:20240307
DTSTAMP:20260423T043644
CREATED:20240301T204951Z
LAST-MODIFIED:20240301T204951Z
UID:7018-1709683200-1709769599@pdknine.com
SUMMARY:Wear Green and Game for $5
DESCRIPTION:
URL:https://pdknine.com/event/wear-green-and-game-for-5/
ATTACH;FMTTYPE=image/jpeg:https://pdknine.com/wp-content/uploads/2024/03/luigi.jpeg
END:VEVENT
BEGIN:VEVENT
DTSTART;VALUE=DATE:20240308
DTEND;VALUE=DATE:20240309
DTSTAMP:20260423T043644
CREATED:20240301T205223Z
LAST-MODIFIED:20240301T205223Z
UID:7023-1709856000-1709942399@pdknine.com
SUMMARY:Retro Videogame Day
DESCRIPTION:Blast from the past –get your nostalgia right here with all your favorite classic video games!
URL:https://pdknine.com/event/retro-videogame-day/
ATTACH;FMTTYPE=image/png:https://pdknine.com/wp-content/uploads/2024/03/space.png
END:VEVENT
BEGIN:VEVENT
DTSTART;VALUE=DATE:20240309
DTEND;VALUE=DATE:20240310
DTSTAMP:20260423T043644
CREATED:20240301T205321Z
LAST-MODIFIED:20240301T205321Z
UID:7026-1709942400-1710028799@pdknine.com
SUMMARY:Barbie!
DESCRIPTION:Come on\, Barbie\, let’s go party!
URL:https://pdknine.com/event/barbie/
ATTACH;FMTTYPE=image/jpeg:https://pdknine.com/wp-content/uploads/2024/03/barbie.jpeg
END:VEVENT
BEGIN:VEVENT
DTSTART;VALUE=DATE:20240315
DTEND;VALUE=DATE:20240316
DTSTAMP:20260423T043644
CREATED:20240304T232722Z
LAST-MODIFIED:20240304T232722Z
UID:7036-1710460800-1710547199@pdknine.com
SUMMARY:THE IDES OF MARCH
DESCRIPTION:Beware.
URL:https://pdknine.com/event/the-ides-of-march/
ATTACH;FMTTYPE=image/jpeg:https://pdknine.com/wp-content/uploads/2024/03/ides.jpeg
END:VEVENT
BEGIN:VEVENT
DTSTART;VALUE=DATE:20240316
DTEND;VALUE=DATE:20240317
DTSTAMP:20260423T043644
CREATED:20240304T232832Z
LAST-MODIFIED:20240304T232832Z
UID:7039-1710547200-1710633599@pdknine.com
SUMMARY:St. Patrick's Day Celebration!
DESCRIPTION:Adults only after 5PM!
URL:https://pdknine.com/event/st-patricks-day-celebration/
ATTACH;FMTTYPE=image/jpeg:https://pdknine.com/wp-content/uploads/2024/03/clovers.jpeg
END:VEVENT
BEGIN:VEVENT
DTSTART;VALUE=DATE:20240318
DTEND;VALUE=DATE:20240319
DTSTAMP:20260423T043644
CREATED:20240304T233110Z
LAST-MODIFIED:20240304T233110Z
UID:7042-1710720000-1710806399@pdknine.com
SUMMARY:Spring Cleaning SALE!
DESCRIPTION:Shop all the deals today as we spring into cleaning mode!
URL:https://pdknine.com/event/spring-cleaning-sale/
ATTACH;FMTTYPE=image/jpeg:https://pdknine.com/wp-content/uploads/2024/03/jetson.jpeg
END:VEVENT
BEGIN:VEVENT
DTSTART;VALUE=DATE:20240320
DTEND;VALUE=DATE:20240321
DTSTAMP:20260423T043644
CREATED:20240304T233242Z
LAST-MODIFIED:20240304T233242Z
UID:7045-1710892800-1710979199@pdknine.com
SUMMARY:Wear GREEN and play for $5
DESCRIPTION:
URL:https://pdknine.com/event/wear-green-and-play-for-5/
ATTACH;FMTTYPE=image/jpeg:https://pdknine.com/wp-content/uploads/2024/03/link.jpeg
END:VEVENT
BEGIN:VEVENT
DTSTART;TZID=UTC:20240321T190000
DTEND;TZID=UTC:20240321T220000
DTSTAMP:20260423T043644
CREATED:20240304T233338Z
LAST-MODIFIED:20240304T233338Z
UID:7048-1711047600-1711058400@pdknine.com
SUMMARY:D&D One Shot!
DESCRIPTION:Call ahead to reserve your spot! 7PM start time!
URL:https://pdknine.com/event/dd-one-shot-19/
ATTACH;FMTTYPE=image/jpeg:https://pdknine.com/wp-content/uploads/2023/04/IMG_7353.jpeg
END:VEVENT
BEGIN:VEVENT
DTSTART;TZID=UTC:20240323T183000
DTEND;TZID=UTC:20240323T210000
DTSTAMP:20260423T043644
CREATED:20231003T002624Z
LAST-MODIFIED:20240304T233551Z
UID:6730-1711218600-1711227600@pdknine.com
SUMMARY:GREEN TRIVIA
DESCRIPTION:Come at 6:30PM to test your knowledge! \n$5 to drop-in!
URL:https://pdknine.com/event/horror-trivia/
ATTACH;FMTTYPE=image/jpeg:https://pdknine.com/wp-content/uploads/2023/10/face.jpeg
END:VEVENT
BEGIN:VEVENT
DTSTART;TZID=UTC:20240324T123000
DTEND;TZID=UTC:20240324T140000
DTSTAMP:20260423T043644
CREATED:20240206T015906Z
LAST-MODIFIED:20240304T233617Z
UID:6977-1711283400-1711288800@pdknine.com
SUMMARY:How to: Lorcana
DESCRIPTION:Learn how to play this epic card game!
URL:https://pdknine.com/event/how-to-lorcana/
ATTACH;FMTTYPE=image/jpeg:https://pdknine.com/wp-content/uploads/2024/02/disney.jpeg
END:VEVENT
BEGIN:VEVENT
DTSTART;TZID=UTC:20240324T140000
DTEND;TZID=UTC:20240324T163000
DTSTAMP:20260423T043644
CREATED:20240304T233712Z
LAST-MODIFIED:20240304T233712Z
UID:7052-1711288800-1711297800@pdknine.com
SUMMARY:LORCANA Open Play
DESCRIPTION:
URL:https://pdknine.com/event/lorcana-open-play-2/
ATTACH;FMTTYPE=image/jpeg:https://pdknine.com/wp-content/uploads/2024/02/disney.jpeg
END:VEVENT
BEGIN:VEVENT
DTSTART;TZID=UTC:20240327T180000
DTEND;TZID=UTC:20240327T210000
DTSTAMP:20260423T043644
CREATED:20230903T221421Z
LAST-MODIFIED:20240304T233916Z
UID:6683-1711562400-1711573200@pdknine.com
SUMMARY:Magic the Gathering!
DESCRIPTION:Jumpstart and Commander! \n 
URL:https://pdknine.com/event/magic-the-gathering-2/
ATTACH;FMTTYPE=image/jpeg:https://pdknine.com/wp-content/uploads/2023/08/magic.jpeg
END:VEVENT
BEGIN:VEVENT
DTSTART;TZID=UTC:20240328T190000
DTEND;TZID=UTC:20240328T220000
DTSTAMP:20260423T043644
CREATED:20240304T234009Z
LAST-MODIFIED:20240304T234009Z
UID:7057-1711652400-1711663200@pdknine.com
SUMMARY:D&D One Shot!
DESCRIPTION:Come pick up an adventure with our House Dungeon Master from 7 – 10PM tonight! Bring your own character or have one provided for you! Huzzah! \n  \n*Space is limited; please call ahead to reserve your spot in the adventure!
URL:https://pdknine.com/event/dd-one-shot-20/
ATTACH;FMTTYPE=image/jpeg:https://pdknine.com/wp-content/uploads/2023/04/IMG_7353.jpeg
END:VEVENT
BEGIN:VEVENT
DTSTART;VALUE=DATE:20240329
DTEND;VALUE=DATE:20240330
DTSTAMP:20260423T043644
CREATED:20240304T234137Z
LAST-MODIFIED:20240304T234137Z
UID:7061-1711670400-1711756799@pdknine.com
SUMMARY:FREE Corndogs with game block purchase!
DESCRIPTION:
URL:https://pdknine.com/event/free-corndogs-with-game-block-purchase/
ATTACH;FMTTYPE=image/png:https://pdknine.com/wp-content/uploads/2023/05/IMG_7224.png
END:VEVENT
END:VCALENDAR