BEGIN:VCALENDAR
VERSION:2.0
PRODID:-//PDKNINE - ECPv6.15.17.1//NONSGML v1.0//EN
CALSCALE:GREGORIAN
METHOD:PUBLISH
X-WR-CALNAME:PDKNINE
X-ORIGINAL-URL:https://pdknine.com
X-WR-CALDESC:Events for PDKNINE
REFRESH-INTERVAL;VALUE=DURATION:PT1H
X-Robots-Tag:noindex
X-PUBLISHED-TTL:PT1H
BEGIN:VTIMEZONE
TZID:UTC
BEGIN:STANDARD
TZOFFSETFROM:+0000
TZOFFSETTO:+0000
TZNAME:UTC
DTSTART:20230101T000000
END:STANDARD
END:VTIMEZONE
BEGIN:VEVENT
DTSTART;VALUE=DATE:20240504
DTEND;VALUE=DATE:20240505
DTSTAMP:20260421T055718
CREATED:20240504T195012Z
LAST-MODIFIED:20240504T195012Z
UID:7105-1714780800-1714867199@pdknine.com
SUMMARY:Star Wars Day!
DESCRIPTION:May the fourth be with you.
URL:https://pdknine.com/event/star-wars-day/
ATTACH;FMTTYPE=image/jpeg:https://pdknine.com/wp-content/uploads/2023/06/vader.jpeg
END:VEVENT
BEGIN:VEVENT
DTSTART;VALUE=DATE:20240505
DTEND;VALUE=DATE:20240506
DTSTAMP:20260421T055718
CREATED:20240504T195205Z
LAST-MODIFIED:20240504T195205Z
UID:7107-1714867200-1714953599@pdknine.com
SUMMARY:Revenge of the Fifth!
DESCRIPTION:
URL:https://pdknine.com/event/revenge-of-the-fifth/
ATTACH;FMTTYPE=image/jpeg:https://pdknine.com/wp-content/uploads/2024/05/dm.jpeg
END:VEVENT
BEGIN:VEVENT
DTSTART;VALUE=DATE:20240506
DTEND;VALUE=DATE:20240507
DTSTAMP:20260421T055718
CREATED:20240504T195320Z
LAST-MODIFIED:20240504T195458Z
UID:7110-1714953600-1715039999@pdknine.com
SUMMARY:Monday with Mutts
DESCRIPTION:Bring your furry friend to game with us all day!
URL:https://pdknine.com/event/monday-with-mutts/
ATTACH;FMTTYPE=image/jpeg:https://pdknine.com/wp-content/uploads/2024/05/puppy.jpeg
END:VEVENT
BEGIN:VEVENT
DTSTART;VALUE=DATE:20240507
DTEND;VALUE=DATE:20240508
DTSTAMP:20260421T055718
CREATED:20240504T195350Z
LAST-MODIFIED:20240504T195508Z
UID:7113-1715040000-1715126399@pdknine.com
SUMMARY:CLOSED
DESCRIPTION:
URL:https://pdknine.com/event/closed-2/
END:VEVENT
BEGIN:VEVENT
DTSTART;VALUE=DATE:20240508
DTEND;VALUE=DATE:20240509
DTSTAMP:20260421T055718
CREATED:20240504T195445Z
LAST-MODIFIED:20240504T195445Z
UID:7115-1715126400-1715212799@pdknine.com
SUMMARY:Free Coca-Colas while you game!
DESCRIPTION:
URL:https://pdknine.com/event/free-coca-colas-while-you-game/
ATTACH;FMTTYPE=image/png:https://pdknine.com/wp-content/uploads/2023/05/coke.png
END:VEVENT
BEGIN:VEVENT
DTSTART;VALUE=DATE:20240510
DTEND;VALUE=DATE:20240511
DTSTAMP:20260421T055718
CREATED:20240206T015640Z
LAST-MODIFIED:20240504T200012Z
UID:6972-1715299200-1715385599@pdknine.com
SUMMARY:Get that 'za!
DESCRIPTION:Free pizza for gaming groups of four or more all day!
URL:https://pdknine.com/event/tmnt-day/
ATTACH;FMTTYPE=image/jpeg:https://pdknine.com/wp-content/uploads/2024/01/pizza.jpeg
END:VEVENT
BEGIN:VEVENT
DTSTART;TZID=UTC:20240511T180000
DTEND;TZID=UTC:20240511T203000
DTSTAMP:20260421T055718
CREATED:20240504T200129Z
LAST-MODIFIED:20240504T202039Z
UID:7120-1715450400-1715459400@pdknine.com
SUMMARY:1/2 Halloween Party!
DESCRIPTION:You’ve heard of Christmas in July?? Well\, we’re halfway to Halloween! Spring into spooky a little early with us on Saturday!
URL:https://pdknine.com/event/1-2-halloween-party/
ATTACH;FMTTYPE=image/jpeg:https://pdknine.com/wp-content/uploads/2024/05/mohawk-pumpkin.jpeg
END:VEVENT
BEGIN:VEVENT
DTSTART;VALUE=DATE:20240512
DTEND;VALUE=DATE:20240513
DTSTAMP:20260421T055718
CREATED:20240504T200430Z
LAST-MODIFIED:20240504T200430Z
UID:7122-1715472000-1715558399@pdknine.com
SUMMARY:Mom plays free!
DESCRIPTION:Celebrate all the moms in your life by bringing them to game for free! \n  \n 
URL:https://pdknine.com/event/mom-plays-free/
ATTACH;FMTTYPE=image/jpeg:https://pdknine.com/wp-content/uploads/2024/05/mom-.jpeg
END:VEVENT
BEGIN:VEVENT
DTSTART;VALUE=DATE:20240514
DTEND;VALUE=DATE:20240515
DTSTAMP:20260421T055718
CREATED:20240504T200603Z
LAST-MODIFIED:20240504T200603Z
UID:7125-1715644800-1715731199@pdknine.com
SUMMARY:CLOSED
DESCRIPTION:
URL:https://pdknine.com/event/closed-3/
END:VEVENT
BEGIN:VEVENT
DTSTART;VALUE=DATE:20240521
DTEND;VALUE=DATE:20240522
DTSTAMP:20260421T055718
CREATED:20240504T202400Z
LAST-MODIFIED:20240504T202400Z
UID:7142-1716249600-1716335999@pdknine.com
SUMMARY:CLOSED
DESCRIPTION:
URL:https://pdknine.com/event/closed-4/
END:VEVENT
BEGIN:VEVENT
DTSTART;VALUE=DATE:20240522
DTEND;VALUE=DATE:20240523
DTSTAMP:20260421T055718
CREATED:20240106T214820Z
LAST-MODIFIED:20240504T201522Z
UID:6943-1716336000-1716422399@pdknine.com
SUMMARY:Family Gaming!
DESCRIPTION:$5 gaming for your family!
URL:https://pdknine.com/event/family-style/
ATTACH;FMTTYPE=image/jpeg:https://pdknine.com/wp-content/uploads/2023/05/IMG_6532-scaled.jpeg
END:VEVENT
BEGIN:VEVENT
DTSTART;VALUE=DATE:20240527
DTEND;VALUE=DATE:20240528
DTSTAMP:20260421T055718
CREATED:20240504T202540Z
LAST-MODIFIED:20240504T202540Z
UID:7146-1716768000-1716854399@pdknine.com
SUMMARY:Free Bomb-Pops!
DESCRIPTION:Usher summer in with popsicles and games!
URL:https://pdknine.com/event/free-bomb-pops/
ATTACH;FMTTYPE=image/webp:https://pdknine.com/wp-content/uploads/2024/05/bombpop.webp
END:VEVENT
BEGIN:VEVENT
DTSTART;VALUE=DATE:20240528
DTEND;VALUE=DATE:20240529
DTSTAMP:20260421T055718
CREATED:20240504T202415Z
LAST-MODIFIED:20240504T202415Z
UID:7144-1716854400-1716940799@pdknine.com
SUMMARY:CLOSED
DESCRIPTION:
URL:https://pdknine.com/event/closed-5/
END:VEVENT
END:VCALENDAR